Workbook

Sheet Project_Data
A1: =CONCATENATE("Finding Setbacks for Multiple Parallel Fences on Steep Slopes for Project ",Q7) -> Finding Setbacks for Multiple Parallel Fences on Steep Slopes for Project
A3: Project Data
C4: MnDOT Data
C5: Project Data
D6: Project Location | P6: :
D7: Project # | P7: :
D8: Lane width | P8: : | Q8: 12 | T8: feet
D9: Shoulder width | P9: : | Q9: 6 | T9: feet
D10: Shoulder PI width | P10: : | Q10: 1.5 | T10: feet
C12: U of M signal Fence Data
C13: A.) Enter the data from the U of M's Analysis of Snow Climatology Web Site
D14: S = Snowfall over Snow Accumulation Seasonal | P14: : | Q14: 2.43 | T14: feet
C15: SWE = Snow Water Equivalent Ratio | P15: : | Q15: 0.094 | T15: decimal
C16: r = Relocation Coefficient | P16: : | Q16: 0.58 | T16: decimal
C17: Direction of greatest snow transport | P17: : | Q17: 320 | T17: degree
C18: F = Fetch Distance | P18: : | Q18: 10000 | T18: feet
C19: Q = Mean seasonal snow transport | P19: : | Q19: 7.52 | T19: tons/foot | X19: Analysis of Snow Climatolory
D20: P = Porosity | P20: : | Q20: 0.5 | T20: decimal
D21: H = Fence Height | P21: : | Q21: 5.1 | T21: feet
D22: Attack Angle | P22: : | Q22: 90 | T22: degree
C23: Design enhancements to the Uof M Recommendation
C24: B.) Multiple fences
C25: Same for both living snow fence and structural snow fence
C26: Hp = Fence Height of | P26: : | Q26: 7 | T26: feet
C27: Pp = Porosity | P27: : | Q27: 0.5 | T27: decimal
C29: What is the inslope of the Clear Recovery Zone? | Q29: 4 | T29: Run | U29: 1 | X29: Rise
C30: What is the inslope After of the Clear Recovery Zone? | Q30: 3 | T30: Run | U30: 1 | X30: Rise
C32: C.) Reducing the setback distance of U of M recommendation by Snow Control Ditch Grading Ditch:
D33: What is the ditch depth? | Q33: 0 | T33: Feet
D34: What is the Inslope? | Q34: 0 | T34: Run | U34: 0 | X34: Rise
D35: What is the Backslope? | Q35: 0 | T35: Run | U35: 0 | X35: Rise
D36: What is the ditch bottom width? | Q36: 0 | T36: Feet
A39: A.) | U39: At a Height of
C40: 1.) What is the U of M's recommendated setback for a "Single Parallel Fence Placement" from Shoulder PI? | P40: = | Q40: =Minimum_Parallel_Setbacks!$F$17 -> 171.4875 | R40: Feet | U40: =$Q$21 -> 5.1 | X40: feet
C42: 2.) How many rows are needed? | P42: = | Q42: =ROUND(Number_of_Rows!$C$9,0) -> 2 | R42: Rows
A44: B.) | C44: =[1]First_Row_Placement!B2 -> MINIMUM SET BACK AND HEIGHT OF MATURE PLANTS FOR FIRST ROW
V45: =[1]First_Row_Placement!B3 -> SLOPE OF | X45: =[1]First_Row_Placement!C3 -> SET BACK | Z45: =[1]First_Row_Placement!D3 -> HEIGHT
V46: =[1]First_Row_Placement!B4 -> 3 TO 1 | X46: =[1]First_Row_Placement!C4 -> 35'-0" | Z46: =[1]First_Row_Placement!D4 -> 8'-0"
C47: 1.) 1st row of Fencing (Living snow fence) setback is set by the chart at right. | V47: =[1]First_Row_Placement!B5 -> 4 TO 1 | X47: =[1]First_Row_Placement!C5 -> 35'-0" | Z47: =[1]First_Row_Placement!D5 -> 5'-0"
C48: 2.) Setback starts at Should PI. | V48: =[1]First_Row_Placement!B6 -> 5 TO 1 | X48: =[1]First_Row_Placement!C6 -> 44'-0" | Z48: =[1]First_Row_Placement!D6 -> 4'-0"
C49: 3.) What is the 1st row setback by slope from chart? | P49: = | Q49: =IF(Q29<=2,"No",IF(Q29=3,35,IF(Q29=4,35,IF(Q29=5,44,IF(Q29=6,48,"No"))))) -> 35 | R49: feet | V49: =[1]First_Row_Placement!B7 -> 6 TO 1 | X49: =[1]First_Row_Placement!C7 -> 48'-0" | Z49: =[1]First_Row_Placement!D7 -> 4'-0"
C50: 4.) What is the Maximum Height of Plant? | P50: = | Q50: =IF(Q29<=2,"No",IF(Q29=3,8,IF(Q29=4,5,IF(Q29=5,4,IF(Q29=6,4,"No"))))) -> 5 | R50: feet
C52: DISTANCE BETWEEN CONSECUTIVE ROWS, BUT NOT BETWEEN THE SECOND TO LAST ROW AND THE FINAL ROW
C53: =[1]Horizontal_Forment!B3 -> SLOPE | F53: =[1]Horizontal_Forment!E3 -> HEIGHT OF MATURITY PLANT - IN FEET
C54: =[1]Horizontal_Forment!B4 -> RUN/RISE | F54: =[1]Horizontal_Forment!E4 -> 4 | G54: =[1]Horizontal_Forment!F4 -> 5 | H54: =[1]Horizontal_Forment!G4 -> 6 | I54: =[1]Horizontal_Forment!H4 -> 7 | J54: =[1]Horizontal_Forment!I4 -> 8 | K54: =[1]Horizontal_Forment!J4 -> 9 | L54: =[1]Horizontal_Forment!K4 -> 10 | M54: =[1]Horizontal_Forment!L4 -> 11 | ... AA54: =[1]Horizontal_Forment!Z4 -> 25
F55: =[1]Horizontal_Forment!E5 -> DISTANCE BETWEEN ROWS - IN FEET
C56: =[1]Horizontal_Forment!B6 -> 3 | D56: =[1]Horizontal_Forment!C6 -> TO | E56: =[1]Horizontal_Forment!D6 -> 1 | F56: =[1]Horizontal_Forment!E6 -> 11.552228 | G56: =[1]Horizontal_Forment!F6 -> 14.440285 | H56: =[1]Horizontal_Forment!G6 -> 17.328342 | I56: =[1]Horizontal_Forment!H6 -> 20.216399 | J56: =[1]Horizontal_Forment!I6 -> 23.104456 | ... AA56: =[1]Horizontal_Forment!Z6 -> 72.201426
C57: =[1]Horizontal_Forment!B7 -> 4 | D57: =[1]Horizontal_Forment!C7 -> TO | E57: =[1]Horizontal_Forment!D7 -> 1 | F57: =[1]Horizontal_Forment!E7 -> 15.665269 | G57: =[1]Horizontal_Forment!F7 -> 19.581587 | H57: =[1]Horizontal_Forment!G7 -> 23.497904 | I57: =[1]Horizontal_Forment!H7 -> 27.414222 | J57: =[1]Horizontal_Forment!I7 -> 31.330539 | ... AA57: =[1]Horizontal_Forment!Z7 -> 97.907934
C58: =[1]Horizontal_Forment!B8 -> 5 | D58: =[1]Horizontal_Forment!C8 -> TO | E58: =[1]Horizontal_Forment!D8 -> 1 | F58: =[1]Horizontal_Forment!E8 -> 19.73262 | G58: =[1]Horizontal_Forment!F8 -> 24.665774 | H58: =[1]Horizontal_Forment!G8 -> 29.598929 | I58: =[1]Horizontal_Forment!H8 -> 34.532084 | J58: =[1]Horizontal_Forment!I8 -> 39.465239 | ... AA58: =[1]Horizontal_Forment!Z8 -> 123.32887
C59: =[1]Horizontal_Forment!B9 -> 6 | D59: =[1]Horizontal_Forment!C9 -> TO | E59: =[1]Horizontal_Forment!D9 -> 1 | F59: =[1]Horizontal_Forment!E9 -> 23.777365 | G59: =[1]Horizontal_Forment!F9 -> 29.721706 | H59: =[1]Horizontal_Forment!G9 -> 35.666048 | I59: =[1]Horizontal_Forment!H9 -> 41.610389 | J59: =[1]Horizontal_Forment!I9 -> 47.55473 | ... AA59: =[1]Horizontal_Forment!Z9 -> 148.60853
C61: 1.) The height of the Mature Plant or Structural Fence is. | P61: = | Q61: =Q26 -> 7 | R61: feet
C62: 2.) The distance between rows form chart is. | P62: = | Q62: =Planting_Steep_Slopes!$F$11 -> 20.216399 | R62: feet
C64: =[2]Horizontal_Forment!D11 -> DISTANCE BETWEEN SECOND ROW AND FINAL ROW IN NEAR FLAT CONDITIONS - IN FEET
D65: =[2]Horizontal_Forment!D12 -> 79.933322 | E65: =[2]Horizontal_Forment!E12 -> 99.916653 | F65: =[2]Horizontal_Forment!F12 -> 119.89998 | G65: =[2]Horizontal_Forment!G12 -> 139.88331 | H65: =[2]Horizontal_Forment!H12 -> 159.86664 | I65: =[2]Horizontal_Forment!I12 -> 179.84997 | J65: =[2]Horizontal_Forment!J12 -> 199.83331 | K65: =[2]Horizontal_Forment!K12 -> 219.81664 | ... Y65: =[2]Horizontal_Forment!Y12 -> 499.58326
C67: 1.) Orgininal Final Row Distance between last and final row is. | P67: = | Q67: =SUM(20*Q21) -> 102 | R67: feet
C68: 2.) Right-of-Way need is first row + each row + final row + 2 feet is. | P68: = | Q68: =IF((SUM((Q42)-2))<=0,SUM((0*Q62)+(Q49+Q67+2)),SUM(((Q42)-2)*Q62)+(Q49+Q67+2)) -> 139 | R68: feet | T68: from Should PI
A70: C.) | C70: Reducing Right-of-way taking by recalculating last row distance by adding a Snow Control graded ditch
C71: 1.) Precentage of final row length. | J71: ( | K71: =Ditch_Area_Reducing!$E$11 -> 559.215 | L71: /( | M71: =Ditch_Area_Reducing!$E$15 -> 0 | N71: + | O71: =Ditch_Area_Reducing!$E$11 -> 559.215 | P71: ))= | Q71: =SUM(Ditch_Area_Reducing!$H$19/Ditch_Area_Reducing!$H$23) -> 1 | W71: At a Height of
C72: 2.) Final Snow Fence Length between last and final row is. | P72: = | Q72: =SUM(Q67*Q71) -> 102 | R72: feet | W72: =$Q$21 -> 5.1 | Z72: feet
C73: 3.) Right-of-Way need is first row + each row + final row + 2 feet is. | P73: = | Q73: =IF((SUM((Q42)-2))<=0,SUM((0*Q62)+(Q49+Q72+2)),SUM(((Q42)-2)*Q62)+(Q49+Q72+2)) -> 139 | R73: feet | T73: from Should PI
C75: Reducing Right-of-way further by Over-Designing Fence Height. | W75: At a Height of
C76: 1.) Reduced Final Snow Fence Length between last and final row is. | P76: = | Q76: =Reduced_Setback!$D$12 -> 98.196 | R76: feet | W76: =Q26 -> 7 | Z76: feet
C77: 2.) Right-of-Way need is first row + each row + final row + 2 feet is. | P77: = | Q77: =IF((SUM((Q42)-2))<=0,SUM((0*Q62)+(Q49+Q76+2)),SUM(((Q42)-2)*Q62)+(Q49+Q76+2)) -> 135.196 | R77: feet | T77: from Should PI

Sheet Minimum_Parallel_Setbacks
A1: Minimum Setback for Parallel Fense to road
A2: Page 200
A4: Setbacks are from shoulder PI
B6: Measured perpendicular to the road
B7: setbacks are on the order of 20 to35H pepending on porosity
C9: D = H (sina) (12 + 49P + 7P2 - 37P3)
C11: d=setback distance
C12: H=Fence design height
C13: a= attack angle
C14: P=Porosity
C16: What is the Fence Disgn Height? | D16: What is the Attack Angle? | E16: What is the Fence Design Porosity | F16: SetBack Distance from Shoulder PI
C17: =Project_Data!$Q$21 -> 5.1 | D17: =Project_Data!$Q$22 -> 90 | E17: =SUM((Project_Data!$Q$20)) -> 0.5 | F17: =SUM((C17)*(SIN(RADIANS(D17)))*((12)+(49*E17)+(7*(POWER(E17,2)))-(37*(POWER(E17,3))))) -> 171.4875

Sheet Number_of_Rows
A1: Number of Rows
A2: Page 145
A3: F= | B3: =Project_Data!$Q$21 -> 5.1 | C3: UofM Fence Height
A4: Fp= | B4: =Project_Data!$Q$26 -> 7 | C4: Design proposed Height
B5: N= | C5: Number of Rows
C7: (F/Fp)sq=N
B9: (8/5)sq=N= | C9: =SUM(POWER(Project_Data!$Q$26/Project_Data!$Q$21,2)) -> 1.8838908 | D9: Rows

Sheet Ditch_Area_Reducing
A1: Area of Drift Downwind of Fence
A2: Page 50
B3: Area of Drift down wind of fence
B5: A=21.5(H)sq
B7: A= | C7: Area of downwind drift
B8: H= | C8: Height of design fence
B10: A=21.5( | C10: =Project_Data!$Q$21 -> 5.1 | D10: )sq
B11: A | D11: = | E11: =H19 -> 559.215 | F11: SqFt
B13: Area of the Snow Control Graded Ditch
B15: length * Width | D15: = | E15: =SUM((((Project_Data!U34*Project_Data!Q33)*(Project_Data!Q34*Project_Data!Q33))/2)+(Project_Data!Q33*Project_Data!Q36)+((Project_Data!U35*Project_Data!Q35)*(Project_Data!Q35*Project_Data!Q33)/2)) -> 0 | F15: SqFt
F19: Area of Downwind Drift = | H19: =SUM(21.5*(POWER(C10,2))) -> 559.215 | I19: sqft
F21: Area of Snow Control Ditch= | H21: =E15 -> 0 | I21: sqft
F23: Snow Storage of Drift with Snow Control Ditch = | H23: =SUM(H19:H22) -> 559.215 | I23: sqft

Sheet Reduced_Setback
A1: Reducing Setbacks by Over-Designing Height
A2: page 202
B3: L=length of the downwind drift
B4: H=Fence height
B5: A=Cross-sectional area of the downwind drift at a given time
B6: A€= Cross-sectional are of the equilibrium drift
B9: L= | C9: H(10.5+6.6(A/Ae)+17.2((A/Ae)sq))
B11: Cross Section of equilibrium drift | C11: What is the Fence over Design Height? | D11: What is the shorten distance of an over Designed Snow Fence
B12: =SUM(10.5+(6.6*0.3)+(17.2*(POWER(0.3,2)))) -> 14.028 | C12: =Project_Data!$Q$26 -> 7 | D12: =SUM(B12*C12) -> 98.196

Sheet Planting_Steep_Slopes
A1: Recommended Planting Pattern for Shrubs on Steep Slopes
A3: Page 235
C4: H= | D4: Height of Maturity Plates
C5: a= | D5: Slope Angle Rise/Run
C6: D= | D6: Distance between rows
C8: D= | D8: H/(Tan a)
C10: What is the Design Height of the Maturity Plates | D10: What is the angle of the Slope | E10: Tan of Angle | F10: Distance between Rows
C11: =Project_Data!Q26 -> 7 | D11: =SUM(Project_Data!U30/Project_Data!Q30) -> 0.33333333 | E11: =SUM(TAN(Project_Data!U30/Project_Data!Q30)) -> 0.34625355 | F11: =IF(Project_Data!Q30<=2,"No",IF(Project_Data!Q30>=7,"No",(C11/E11))) -> 20.216399

Sheet Data
A1: Fence Design Height | D1: Attack Angle | H1: Porosity
A2: 4 | D2: 10 | E2: =SUM(SIN(RADIANS(D2))) -> 0.17364818 | H2: 0.25
A3: 4.5 | D3: 15 | E3: =SUM(SIN(RADIANS(D3))) -> 0.25881905 | H3: 0.3
A4: 5 | D4: 20 | E4: =SUM(SIN(RADIANS(D4))) -> 0.34202014 | H4: 0.4
A5: 5.5 | D5: 25 | E5: =SUM(SIN(RADIANS(D5))) -> 0.42261826 | H5: 0.5
A6: 6 | D6: 30 | E6: =SUM(SIN(RADIANS(D6))) -> 0.5 | H6: 0.6
A7: 6.5 | D7: 35 | E7: =SUM(SIN(RADIANS(D7))) -> 0.57357644 | H7: 0.7
A8: 7 | D8: 40 | E8: =SUM(SIN(RADIANS(D8))) -> 0.64278761
A9: 7.5 | D9: 45 | E9: =SUM(SIN(RADIANS(D9))) -> 0.70710678
A10: 8 | D10: 50 | E10: =SUM(SIN(RADIANS(D10))) -> 0.76604444
A11: 8.5 | D11: 55 | E11: =SUM(SIN(RADIANS(D11))) -> 0.81915204
A12: 9 | D12: 60 | E12: =SUM(SIN(RADIANS(D12))) -> 0.8660254
A13: 9.5 | D13: 65 | E13: =SUM(SIN(RADIANS(D13))) -> 0.90630779
A14: 10 | D14: 70 | E14: =SUM(SIN(RADIANS(D14))) -> 0.93969262
A15: 10.5 | D15: 75 | E15: =SUM(SIN(RADIANS(D15))) -> 0.96592583
A16: 11 | D16: 80 | E16: =SUM(SIN(RADIANS(D16))) -> 0.98480775
A17: 11.5 | D17: 85 | E17: =SUM(SIN(RADIANS(D17))) -> 0.9961947
A18: 12 | D18: 90 | E18: =SUM(SIN(RADIANS(D18))) -> 1
A19: 12.5

Sheet Greatest_Transport
A2: direction of greatest potential snow transport was calculated
B4: Qupot = (ui3.8/233847)(f)(86400)(n)
B7: ui = is the midpoint of the ith 10-m wind speed class.
B8: f = is the frequency of observations within the ui wind class over a month having n days.
B9: n = a month having n days.
B10: Qupot is the potential snow transport in kg/m downwind from a fetch of infinite extent with an unlimited snow cover.

Sheet Mean_Snow_Transport
B2: Formula for Mean Seasonal Snow Transport
B5: Qt = 1500 (S)(SWE)(r)(1-0.14F/3000)
B8: S = mean snowfall over SAS (ft) = | C8: =Project_Data!$Q$14 -> 2.43
B9: SWE = mean snow water equivalent = | C9: =Project_Data!$Q$15 -> 0.094
B10: r = relocation factor = | C10: =Project_Data!$Q$16 -> 0.58
B11: F = fetch distance in meters = | C11: =Project_Data!$Q$18 -> 10000
B12: Qt = mean seasonal snow transport (t/m) = | C12: =SUM(1500*(C8)*(C9)*(C10)*(1-POWER(0.14,(C11/3000)))) -> 198.44225

Sheet Fence_Height
B2: Formula for Snow Fence Height
B4: H = [Qt/(3+4P+44P2-60P3)]0.455
B6: Qt = snow transport (t/ft) | E6: =Project_Data!Q19 -> 7.52
B7: P = porosity (decimal) | E7: =Project_Data!Q20 -> 0.5
B8: H = Fence height (feet) | E8: =SUM(POWER(Project_Data!Q19/(3+(4*Project_Data!Q20)+(44*POWER(Project_Data!Q20,2))-(60*POWER(Project_Data!Q20,3))),0.455)) -> 0.94578736
B16: (3+4P) = | C16: =SUM(3+(4*Project_Data!Q20)) -> 5
B17: P2 = | C17: =SUM(POWER(Project_Data!Q20,2)) -> 0.25
B18: 44P2= | C18: =SUM(44*POWER(Project_Data!Q20,2)) -> 11
B19: P3= | C19: =SUM(POWER(Project_Data!Q20,3)) -> 0.125
B20: 60P3= | C20: =SUM(60*POWER(Project_Data!Q20,3)) -> 7.5
B21: (3+4P+44P2-60P3)= | C21: =SUM(C16+C18-C20) -> 8.5
B22: [Qt/(3+4P+44P2-60P3)]= | C22: =SUM((E6)/C21) -> 0.88470588
B23: [Qt/(3+4P+44P2-60P3)]0.455= | C23: =POWER(C22,0.455) -> 0.94578736

Sheet UOFM_Data
